BEGIN:VCALENDAR
VERSION:2.0
PRODID:-//Goodwill Houston - ECPv6.15.20//NONSGML v1.0//EN
CALSCALE:GREGORIAN
METHOD:PUBLISH
X-WR-CALNAME:Goodwill Houston
X-ORIGINAL-URL:https://www.goodwillhouston.org
X-WR-CALDESC:Events for Goodwill Houston
REFRESH-INTERVAL;VALUE=DURATION:PT1H
X-Robots-Tag:noindex
X-PUBLISHED-TTL:PT1H
BEGIN:VTIMEZONE
TZID:UTC
BEGIN:STANDARD
TZOFFSETFROM:+0000
TZOFFSETTO:+0000
TZNAME:UTC
DTSTART:20210101T000000
END:STANDARD
END:VTIMEZONE
BEGIN:VEVENT
DTSTART;TZID=UTC:20220609T100000
DTEND;TZID=UTC:20220609T110000
DTSTAMP:20260421T060217
CREATED:20220201T020108Z
LAST-MODIFIED:20220201T020117Z
UID:31562-1654768800-1654772400@www.goodwillhouston.org
SUMMARY:Your Texas Benefits Information Session
DESCRIPTION:
URL:https://www.goodwillhouston.org/event/your-texas-benefits-information-session-2/
END:VEVENT
BEGIN:VEVENT
DTSTART;TZID=UTC:20220614T100000
DTEND;TZID=UTC:20220614T163000
DTSTAMP:20260421T060217
CREATED:20220614T160533Z
LAST-MODIFIED:20220614T163616Z
UID:31741-1655200800-1655224200@www.goodwillhouston.org
SUMMARY:JUMA Ventures Hiring Event
DESCRIPTION:Hello Community Partners\, \nWe have over 60 young adults registered for this event! Thank you so much for getting the word out to your teams and the young adults in your programs\, schools and community.  \nThe deadline to register will be next Wednesday\, June 8th. The registration link will be closed on June 9th so that we can start the communications with registered job seekers.  Please help us make one more push before the deadline! If you did not get a chance to read the first email we sent out a couple of weeks ago I have included that additional info below. \nEvent Details: \n\n      When: June 14\, 2022  – three sessions available: 11am\, 1pm and 3pm\n      Where: Goodwill River Oaks Job Connection Center\, 2520 Brun St.\, Houston\, TX. 77019 (entrance is located behind the Goodwill store)\n      How: Register by June 8th at https://www.juma.org/Join-Houston
URL:https://www.goodwillhouston.org/event/juma-ventures-hiring-event/
CATEGORIES:Job Fairs
END:VEVENT
END:VCALENDAR